BEGIN:VCALENDAR
VERSION:2.0
PRODID:-//Schach-Club Kreuzberg e.V. - ECPv6.15.20//NONSGML v1.0//EN
CALSCALE:GREGORIAN
METHOD:PUBLISH
X-WR-CALNAME:Schach-Club Kreuzberg e.V.
X-ORIGINAL-URL:https://www.schachclubkreuzberg.de
X-WR-CALDESC:Veranstaltungen für Schach-Club Kreuzberg e.V.
REFRESH-INTERVAL;VALUE=DURATION:PT1H
X-Robots-Tag:noindex
X-PUBLISHED-TTL:PT1H
BEGIN:VTIMEZONE
TZID:Europe/Berlin
BEGIN:DAYLIGHT
TZOFFSETFROM:+0100
TZOFFSETTO:+0200
TZNAME:CEST
DTSTART:20260329T010000
END:DAYLIGHT
BEGIN:STANDARD
TZOFFSETFROM:+0200
TZOFFSETTO:+0100
TZNAME:CET
DTSTART:20261025T010000
END:STANDARD
BEGIN:DAYLIGHT
TZOFFSETFROM:+0100
TZOFFSETTO:+0200
TZNAME:CEST
DTSTART:20270328T010000
END:DAYLIGHT
BEGIN:STANDARD
TZOFFSETFROM:+0200
TZOFFSETTO:+0100
TZNAME:CET
DTSTART:20271031T010000
END:STANDARD
BEGIN:DAYLIGHT
TZOFFSETFROM:+0100
TZOFFSETTO:+0200
TZNAME:CEST
DTSTART:20280326T010000
END:DAYLIGHT
BEGIN:STANDARD
TZOFFSETFROM:+0200
TZOFFSETTO:+0100
TZNAME:CET
DTSTART:20281029T010000
END:STANDARD
BEGIN:DAYLIGHT
TZOFFSETFROM:+0100
TZOFFSETTO:+0200
TZNAME:CEST
DTSTART:20290325T010000
END:DAYLIGHT
BEGIN:STANDARD
TZOFFSETFROM:+0200
TZOFFSETTO:+0100
TZNAME:CET
DTSTART:20291028T010000
END:STANDARD
BEGIN:DAYLIGHT
TZOFFSETFROM:+0100
TZOFFSETTO:+0200
TZNAME:CEST
DTSTART:20300331T010000
END:DAYLIGHT
BEGIN:STANDARD
TZOFFSETFROM:+0200
TZOFFSETTO:+0100
TZNAME:CET
DTSTART:20301027T010000
END:STANDARD
END:VTIMEZONE
BEGIN:VEVENT
DTSTART;TZID=Europe/Berlin:20270504T193000
DTEND;TZID=Europe/Berlin:20270504T230000
DTSTAMP:20260425T211654
CREATED:20251116T160912Z
LAST-MODIFIED:20251119T095212Z
UID:10002589-1809459000-1809471600@www.schachclubkreuzberg.de
SUMMARY:Monatsturnier: Blitzschach
DESCRIPTION:
URL:https://www.schachclubkreuzberg.de/event/monatsturnier-blitzschach/2027-05-04/
LOCATION:Haus des Sports\, Böcklerstr. 1\, Berlin\, 10969\, Germany
CATEGORIES:Monatsturniere
ORGANIZER;CN="Schach-Club Kreuzberg e.V.":MAILTO:info@schachclubkreuzberg.de
END:VEVENT
BEGIN:VEVENT
DTSTART;TZID=Europe/Berlin:20270601T193000
DTEND;TZID=Europe/Berlin:20270601T230000
DTSTAMP:20260425T211654
CREATED:20251116T160912Z
LAST-MODIFIED:20251119T095212Z
UID:10002590-1811878200-1811890800@www.schachclubkreuzberg.de
SUMMARY:Monatsturnier: Blitzschach
DESCRIPTION:
URL:https://www.schachclubkreuzberg.de/event/monatsturnier-blitzschach/2027-06-01/
LOCATION:Haus des Sports\, Böcklerstr. 1\, Berlin\, 10969\, Germany
CATEGORIES:Monatsturniere
ORGANIZER;CN="Schach-Club Kreuzberg e.V.":MAILTO:info@schachclubkreuzberg.de
END:VEVENT
BEGIN:VEVENT
DTSTART;TZID=Europe/Berlin:20270706T193000
DTEND;TZID=Europe/Berlin:20270706T230000
DTSTAMP:20260425T211654
CREATED:20251116T160912Z
LAST-MODIFIED:20251119T095212Z
UID:10002591-1814902200-1814914800@www.schachclubkreuzberg.de
SUMMARY:Monatsturnier: Blitzschach
DESCRIPTION:
URL:https://www.schachclubkreuzberg.de/event/monatsturnier-blitzschach/2027-07-06/
LOCATION:Haus des Sports\, Böcklerstr. 1\, Berlin\, 10969\, Germany
CATEGORIES:Monatsturniere
ORGANIZER;CN="Schach-Club Kreuzberg e.V.":MAILTO:info@schachclubkreuzberg.de
END:VEVENT
BEGIN:VEVENT
DTSTART;TZID=Europe/Berlin:20270803T193000
DTEND;TZID=Europe/Berlin:20270803T230000
DTSTAMP:20260425T211654
CREATED:20251116T160912Z
LAST-MODIFIED:20251119T095212Z
UID:10002592-1817321400-1817334000@www.schachclubkreuzberg.de
SUMMARY:Monatsturnier: Blitzschach
DESCRIPTION:
URL:https://www.schachclubkreuzberg.de/event/monatsturnier-blitzschach/2027-08-03/
LOCATION:Haus des Sports\, Böcklerstr. 1\, Berlin\, 10969\, Germany
CATEGORIES:Monatsturniere
ORGANIZER;CN="Schach-Club Kreuzberg e.V.":MAILTO:info@schachclubkreuzberg.de
END:VEVENT
BEGIN:VEVENT
DTSTART;TZID=Europe/Berlin:20270907T193000
DTEND;TZID=Europe/Berlin:20270907T230000
DTSTAMP:20260425T211654
CREATED:20251116T160912Z
LAST-MODIFIED:20251119T095212Z
UID:10002593-1820345400-1820358000@www.schachclubkreuzberg.de
SUMMARY:Monatsturnier: Blitzschach
DESCRIPTION:
URL:https://www.schachclubkreuzberg.de/event/monatsturnier-blitzschach/2027-09-07/
LOCATION:Haus des Sports\, Böcklerstr. 1\, Berlin\, 10969\, Germany
CATEGORIES:Monatsturniere
ORGANIZER;CN="Schach-Club Kreuzberg e.V.":MAILTO:info@schachclubkreuzberg.de
END:VEVENT
BEGIN:VEVENT
DTSTART;TZID=Europe/Berlin:20271005T193000
DTEND;TZID=Europe/Berlin:20271005T230000
DTSTAMP:20260425T211654
CREATED:20251116T160912Z
LAST-MODIFIED:20251119T095212Z
UID:10002594-1822764600-1822777200@www.schachclubkreuzberg.de
SUMMARY:Monatsturnier: Blitzschach
DESCRIPTION:
URL:https://www.schachclubkreuzberg.de/event/monatsturnier-blitzschach/2027-10-05/
LOCATION:Haus des Sports\, Böcklerstr. 1\, Berlin\, 10969\, Germany
CATEGORIES:Monatsturniere
ORGANIZER;CN="Schach-Club Kreuzberg e.V.":MAILTO:info@schachclubkreuzberg.de
END:VEVENT
BEGIN:VEVENT
DTSTART;TZID=Europe/Berlin:20271102T193000
DTEND;TZID=Europe/Berlin:20271102T230000
DTSTAMP:20260425T211654
CREATED:20251116T160912Z
LAST-MODIFIED:20251119T095212Z
UID:10002595-1825183800-1825196400@www.schachclubkreuzberg.de
SUMMARY:Monatsturnier: Blitzschach
DESCRIPTION:
URL:https://www.schachclubkreuzberg.de/event/monatsturnier-blitzschach/2027-11-02/
LOCATION:Haus des Sports\, Böcklerstr. 1\, Berlin\, 10969\, Germany
CATEGORIES:Monatsturniere
ORGANIZER;CN="Schach-Club Kreuzberg e.V.":MAILTO:info@schachclubkreuzberg.de
END:VEVENT
BEGIN:VEVENT
DTSTART;TZID=Europe/Berlin:20271207T193000
DTEND;TZID=Europe/Berlin:20271207T230000
DTSTAMP:20260425T211654
CREATED:20251116T160912Z
LAST-MODIFIED:20251119T095212Z
UID:10002596-1828207800-1828220400@www.schachclubkreuzberg.de
SUMMARY:Monatsturnier: Blitzschach
DESCRIPTION:
URL:https://www.schachclubkreuzberg.de/event/monatsturnier-blitzschach/2027-12-07/
LOCATION:Haus des Sports\, Böcklerstr. 1\, Berlin\, 10969\, Germany
CATEGORIES:Monatsturniere
ORGANIZER;CN="Schach-Club Kreuzberg e.V.":MAILTO:info@schachclubkreuzberg.de
END:VEVENT
BEGIN:VEVENT
DTSTART;TZID=Europe/Berlin:20280104T193000
DTEND;TZID=Europe/Berlin:20280104T230000
DTSTAMP:20260425T211654
CREATED:20251116T160912Z
LAST-MODIFIED:20251119T095212Z
UID:10002597-1830627000-1830639600@www.schachclubkreuzberg.de
SUMMARY:Monatsturnier: Blitzschach
DESCRIPTION:
URL:https://www.schachclubkreuzberg.de/event/monatsturnier-blitzschach/2028-01-04/
LOCATION:Haus des Sports\, Böcklerstr. 1\, Berlin\, 10969\, Germany
CATEGORIES:Monatsturniere
ORGANIZER;CN="Schach-Club Kreuzberg e.V.":MAILTO:info@schachclubkreuzberg.de
END:VEVENT
BEGIN:VEVENT
DTSTART;TZID=Europe/Berlin:20280201T193000
DTEND;TZID=Europe/Berlin:20280201T230000
DTSTAMP:20260425T211654
CREATED:20251116T160912Z
LAST-MODIFIED:20251119T095212Z
UID:10002598-1833046200-1833058800@www.schachclubkreuzberg.de
SUMMARY:Monatsturnier: Blitzschach
DESCRIPTION:
URL:https://www.schachclubkreuzberg.de/event/monatsturnier-blitzschach/2028-02-01/
LOCATION:Haus des Sports\, Böcklerstr. 1\, Berlin\, 10969\, Germany
CATEGORIES:Monatsturniere
ORGANIZER;CN="Schach-Club Kreuzberg e.V.":MAILTO:info@schachclubkreuzberg.de
END:VEVENT
BEGIN:VEVENT
DTSTART;TZID=Europe/Berlin:20280307T193000
DTEND;TZID=Europe/Berlin:20280307T230000
DTSTAMP:20260425T211654
CREATED:20251116T160912Z
LAST-MODIFIED:20251119T095212Z
UID:10002599-1836070200-1836082800@www.schachclubkreuzberg.de
SUMMARY:Monatsturnier: Blitzschach
DESCRIPTION:
URL:https://www.schachclubkreuzberg.de/event/monatsturnier-blitzschach/2028-03-07/
LOCATION:Haus des Sports\, Böcklerstr. 1\, Berlin\, 10969\, Germany
CATEGORIES:Monatsturniere
ORGANIZER;CN="Schach-Club Kreuzberg e.V.":MAILTO:info@schachclubkreuzberg.de
END:VEVENT
BEGIN:VEVENT
DTSTART;TZID=Europe/Berlin:20280404T193000
DTEND;TZID=Europe/Berlin:20280404T230000
DTSTAMP:20260425T211654
CREATED:20251116T160912Z
LAST-MODIFIED:20251119T095212Z
UID:10002600-1838489400-1838502000@www.schachclubkreuzberg.de
SUMMARY:Monatsturnier: Blitzschach
DESCRIPTION:
URL:https://www.schachclubkreuzberg.de/event/monatsturnier-blitzschach/2028-04-04/
LOCATION:Haus des Sports\, Böcklerstr. 1\, Berlin\, 10969\, Germany
CATEGORIES:Monatsturniere
ORGANIZER;CN="Schach-Club Kreuzberg e.V.":MAILTO:info@schachclubkreuzberg.de
END:VEVENT
BEGIN:VEVENT
DTSTART;TZID=Europe/Berlin:20280502T193000
DTEND;TZID=Europe/Berlin:20280502T230000
DTSTAMP:20260425T211654
CREATED:20251116T160912Z
LAST-MODIFIED:20251119T095212Z
UID:10002601-1840908600-1840921200@www.schachclubkreuzberg.de
SUMMARY:Monatsturnier: Blitzschach
DESCRIPTION:
URL:https://www.schachclubkreuzberg.de/event/monatsturnier-blitzschach/2028-05-02/
LOCATION:Haus des Sports\, Böcklerstr. 1\, Berlin\, 10969\, Germany
CATEGORIES:Monatsturniere
ORGANIZER;CN="Schach-Club Kreuzberg e.V.":MAILTO:info@schachclubkreuzberg.de
END:VEVENT
BEGIN:VEVENT
DTSTART;TZID=Europe/Berlin:20280606T193000
DTEND;TZID=Europe/Berlin:20280606T230000
DTSTAMP:20260425T211654
CREATED:20251116T160912Z
LAST-MODIFIED:20251119T095212Z
UID:10002602-1843932600-1843945200@www.schachclubkreuzberg.de
SUMMARY:Monatsturnier: Blitzschach
DESCRIPTION:
URL:https://www.schachclubkreuzberg.de/event/monatsturnier-blitzschach/2028-06-06/
LOCATION:Haus des Sports\, Böcklerstr. 1\, Berlin\, 10969\, Germany
CATEGORIES:Monatsturniere
ORGANIZER;CN="Schach-Club Kreuzberg e.V.":MAILTO:info@schachclubkreuzberg.de
END:VEVENT
BEGIN:VEVENT
DTSTART;TZID=Europe/Berlin:20280704T193000
DTEND;TZID=Europe/Berlin:20280704T230000
DTSTAMP:20260425T211654
CREATED:20251116T160912Z
LAST-MODIFIED:20251119T095212Z
UID:10002603-1846351800-1846364400@www.schachclubkreuzberg.de
SUMMARY:Monatsturnier: Blitzschach
DESCRIPTION:
URL:https://www.schachclubkreuzberg.de/event/monatsturnier-blitzschach/2028-07-04/
LOCATION:Haus des Sports\, Böcklerstr. 1\, Berlin\, 10969\, Germany
CATEGORIES:Monatsturniere
ORGANIZER;CN="Schach-Club Kreuzberg e.V.":MAILTO:info@schachclubkreuzberg.de
END:VEVENT
BEGIN:VEVENT
DTSTART;TZID=Europe/Berlin:20280801T193000
DTEND;TZID=Europe/Berlin:20280801T230000
DTSTAMP:20260425T211654
CREATED:20251116T160912Z
LAST-MODIFIED:20251119T095212Z
UID:10002604-1848771000-1848783600@www.schachclubkreuzberg.de
SUMMARY:Monatsturnier: Blitzschach
DESCRIPTION:
URL:https://www.schachclubkreuzberg.de/event/monatsturnier-blitzschach/2028-08-01/
LOCATION:Haus des Sports\, Böcklerstr. 1\, Berlin\, 10969\, Germany
CATEGORIES:Monatsturniere
ORGANIZER;CN="Schach-Club Kreuzberg e.V.":MAILTO:info@schachclubkreuzberg.de
END:VEVENT
BEGIN:VEVENT
DTSTART;TZID=Europe/Berlin:20280905T193000
DTEND;TZID=Europe/Berlin:20280905T230000
DTSTAMP:20260425T211654
CREATED:20251116T160912Z
LAST-MODIFIED:20251119T095212Z
UID:10002605-1851795000-1851807600@www.schachclubkreuzberg.de
SUMMARY:Monatsturnier: Blitzschach
DESCRIPTION:
URL:https://www.schachclubkreuzberg.de/event/monatsturnier-blitzschach/2028-09-05/
LOCATION:Haus des Sports\, Böcklerstr. 1\, Berlin\, 10969\, Germany
CATEGORIES:Monatsturniere
ORGANIZER;CN="Schach-Club Kreuzberg e.V.":MAILTO:info@schachclubkreuzberg.de
END:VEVENT
BEGIN:VEVENT
DTSTART;TZID=Europe/Berlin:20281003T193000
DTEND;TZID=Europe/Berlin:20281003T230000
DTSTAMP:20260425T211654
CREATED:20251116T160912Z
LAST-MODIFIED:20251119T095212Z
UID:10002606-1854214200-1854226800@www.schachclubkreuzberg.de
SUMMARY:Monatsturnier: Blitzschach
DESCRIPTION:
URL:https://www.schachclubkreuzberg.de/event/monatsturnier-blitzschach/2028-10-03/
LOCATION:Haus des Sports\, Böcklerstr. 1\, Berlin\, 10969\, Germany
CATEGORIES:Monatsturniere
ORGANIZER;CN="Schach-Club Kreuzberg e.V.":MAILTO:info@schachclubkreuzberg.de
END:VEVENT
BEGIN:VEVENT
DTSTART;TZID=Europe/Berlin:20281107T193000
DTEND;TZID=Europe/Berlin:20281107T230000
DTSTAMP:20260425T211654
CREATED:20251116T160912Z
LAST-MODIFIED:20251119T095212Z
UID:10002607-1857238200-1857250800@www.schachclubkreuzberg.de
SUMMARY:Monatsturnier: Blitzschach
DESCRIPTION:
URL:https://www.schachclubkreuzberg.de/event/monatsturnier-blitzschach/2028-11-07/
LOCATION:Haus des Sports\, Böcklerstr. 1\, Berlin\, 10969\, Germany
CATEGORIES:Monatsturniere
ORGANIZER;CN="Schach-Club Kreuzberg e.V.":MAILTO:info@schachclubkreuzberg.de
END:VEVENT
BEGIN:VEVENT
DTSTART;TZID=Europe/Berlin:20281205T193000
DTEND;TZID=Europe/Berlin:20281205T230000
DTSTAMP:20260425T211654
CREATED:20251116T160912Z
LAST-MODIFIED:20251119T095212Z
UID:10002608-1859657400-1859670000@www.schachclubkreuzberg.de
SUMMARY:Monatsturnier: Blitzschach
DESCRIPTION:
URL:https://www.schachclubkreuzberg.de/event/monatsturnier-blitzschach/2028-12-05/
LOCATION:Haus des Sports\, Böcklerstr. 1\, Berlin\, 10969\, Germany
CATEGORIES:Monatsturniere
ORGANIZER;CN="Schach-Club Kreuzberg e.V.":MAILTO:info@schachclubkreuzberg.de
END:VEVENT
BEGIN:VEVENT
DTSTART;TZID=Europe/Berlin:20290102T193000
DTEND;TZID=Europe/Berlin:20290102T230000
DTSTAMP:20260425T211654
CREATED:20251116T160912Z
LAST-MODIFIED:20251119T095212Z
UID:10002609-1862076600-1862089200@www.schachclubkreuzberg.de
SUMMARY:Monatsturnier: Blitzschach
DESCRIPTION:
URL:https://www.schachclubkreuzberg.de/event/monatsturnier-blitzschach/2029-01-02/
LOCATION:Haus des Sports\, Böcklerstr. 1\, Berlin\, 10969\, Germany
CATEGORIES:Monatsturniere
ORGANIZER;CN="Schach-Club Kreuzberg e.V.":MAILTO:info@schachclubkreuzberg.de
END:VEVENT
BEGIN:VEVENT
DTSTART;TZID=Europe/Berlin:20290206T193000
DTEND;TZID=Europe/Berlin:20290206T230000
DTSTAMP:20260425T211654
CREATED:20251116T160912Z
LAST-MODIFIED:20251119T095212Z
UID:10002610-1865100600-1865113200@www.schachclubkreuzberg.de
SUMMARY:Monatsturnier: Blitzschach
DESCRIPTION:
URL:https://www.schachclubkreuzberg.de/event/monatsturnier-blitzschach/2029-02-06/
LOCATION:Haus des Sports\, Böcklerstr. 1\, Berlin\, 10969\, Germany
CATEGORIES:Monatsturniere
ORGANIZER;CN="Schach-Club Kreuzberg e.V.":MAILTO:info@schachclubkreuzberg.de
END:VEVENT
BEGIN:VEVENT
DTSTART;TZID=Europe/Berlin:20290306T193000
DTEND;TZID=Europe/Berlin:20290306T230000
DTSTAMP:20260425T211654
CREATED:20251116T160912Z
LAST-MODIFIED:20251119T095212Z
UID:10002611-1867519800-1867532400@www.schachclubkreuzberg.de
SUMMARY:Monatsturnier: Blitzschach
DESCRIPTION:
URL:https://www.schachclubkreuzberg.de/event/monatsturnier-blitzschach/2029-03-06/
LOCATION:Haus des Sports\, Böcklerstr. 1\, Berlin\, 10969\, Germany
CATEGORIES:Monatsturniere
ORGANIZER;CN="Schach-Club Kreuzberg e.V.":MAILTO:info@schachclubkreuzberg.de
END:VEVENT
BEGIN:VEVENT
DTSTART;TZID=Europe/Berlin:20290403T193000
DTEND;TZID=Europe/Berlin:20290403T230000
DTSTAMP:20260425T211654
CREATED:20251116T160912Z
LAST-MODIFIED:20251119T095212Z
UID:10002612-1869939000-1869951600@www.schachclubkreuzberg.de
SUMMARY:Monatsturnier: Blitzschach
DESCRIPTION:
URL:https://www.schachclubkreuzberg.de/event/monatsturnier-blitzschach/2029-04-03/
LOCATION:Haus des Sports\, Böcklerstr. 1\, Berlin\, 10969\, Germany
CATEGORIES:Monatsturniere
ORGANIZER;CN="Schach-Club Kreuzberg e.V.":MAILTO:info@schachclubkreuzberg.de
END:VEVENT
BEGIN:VEVENT
DTSTART;TZID=Europe/Berlin:20290501T193000
DTEND;TZID=Europe/Berlin:20290501T230000
DTSTAMP:20260425T211654
CREATED:20251116T160912Z
LAST-MODIFIED:20251119T095212Z
UID:10002613-1872358200-1872370800@www.schachclubkreuzberg.de
SUMMARY:Monatsturnier: Blitzschach
DESCRIPTION:
URL:https://www.schachclubkreuzberg.de/event/monatsturnier-blitzschach/2029-05-01/
LOCATION:Haus des Sports\, Böcklerstr. 1\, Berlin\, 10969\, Germany
CATEGORIES:Monatsturniere
ORGANIZER;CN="Schach-Club Kreuzberg e.V.":MAILTO:info@schachclubkreuzberg.de
END:VEVENT
BEGIN:VEVENT
DTSTART;TZID=Europe/Berlin:20290605T193000
DTEND;TZID=Europe/Berlin:20290605T230000
DTSTAMP:20260425T211654
CREATED:20251116T160912Z
LAST-MODIFIED:20251119T095212Z
UID:10002614-1875382200-1875394800@www.schachclubkreuzberg.de
SUMMARY:Monatsturnier: Blitzschach
DESCRIPTION:
URL:https://www.schachclubkreuzberg.de/event/monatsturnier-blitzschach/2029-06-05/
LOCATION:Haus des Sports\, Böcklerstr. 1\, Berlin\, 10969\, Germany
CATEGORIES:Monatsturniere
ORGANIZER;CN="Schach-Club Kreuzberg e.V.":MAILTO:info@schachclubkreuzberg.de
END:VEVENT
BEGIN:VEVENT
DTSTART;TZID=Europe/Berlin:20290703T193000
DTEND;TZID=Europe/Berlin:20290703T230000
DTSTAMP:20260425T211654
CREATED:20251116T160912Z
LAST-MODIFIED:20251119T095212Z
UID:10002615-1877801400-1877814000@www.schachclubkreuzberg.de
SUMMARY:Monatsturnier: Blitzschach
DESCRIPTION:
URL:https://www.schachclubkreuzberg.de/event/monatsturnier-blitzschach/2029-07-03/
LOCATION:Haus des Sports\, Böcklerstr. 1\, Berlin\, 10969\, Germany
CATEGORIES:Monatsturniere
ORGANIZER;CN="Schach-Club Kreuzberg e.V.":MAILTO:info@schachclubkreuzberg.de
END:VEVENT
BEGIN:VEVENT
DTSTART;TZID=Europe/Berlin:20290807T193000
DTEND;TZID=Europe/Berlin:20290807T230000
DTSTAMP:20260425T211654
CREATED:20251116T160912Z
LAST-MODIFIED:20251119T095212Z
UID:10002616-1880825400-1880838000@www.schachclubkreuzberg.de
SUMMARY:Monatsturnier: Blitzschach
DESCRIPTION:
URL:https://www.schachclubkreuzberg.de/event/monatsturnier-blitzschach/2029-08-07/
LOCATION:Haus des Sports\, Böcklerstr. 1\, Berlin\, 10969\, Germany
CATEGORIES:Monatsturniere
ORGANIZER;CN="Schach-Club Kreuzberg e.V.":MAILTO:info@schachclubkreuzberg.de
END:VEVENT
BEGIN:VEVENT
DTSTART;TZID=Europe/Berlin:20290904T193000
DTEND;TZID=Europe/Berlin:20290904T230000
DTSTAMP:20260425T211654
CREATED:20251116T160912Z
LAST-MODIFIED:20251119T095212Z
UID:10002617-1883244600-1883257200@www.schachclubkreuzberg.de
SUMMARY:Monatsturnier: Blitzschach
DESCRIPTION:
URL:https://www.schachclubkreuzberg.de/event/monatsturnier-blitzschach/2029-09-04/
LOCATION:Haus des Sports\, Böcklerstr. 1\, Berlin\, 10969\, Germany
CATEGORIES:Monatsturniere
ORGANIZER;CN="Schach-Club Kreuzberg e.V.":MAILTO:info@schachclubkreuzberg.de
END:VEVENT
BEGIN:VEVENT
DTSTART;TZID=Europe/Berlin:20291002T193000
DTEND;TZID=Europe/Berlin:20291002T230000
DTSTAMP:20260425T211654
CREATED:20251116T160912Z
LAST-MODIFIED:20251119T095212Z
UID:10002618-1885663800-1885676400@www.schachclubkreuzberg.de
SUMMARY:Monatsturnier: Blitzschach
DESCRIPTION:
URL:https://www.schachclubkreuzberg.de/event/monatsturnier-blitzschach/2029-10-02/
LOCATION:Haus des Sports\, Böcklerstr. 1\, Berlin\, 10969\, Germany
CATEGORIES:Monatsturniere
ORGANIZER;CN="Schach-Club Kreuzberg e.V.":MAILTO:info@schachclubkreuzberg.de
END:VEVENT
END:VCALENDAR