BEGIN:VCALENDAR
VERSION:2.0
PRODID:-//Schach-Club Kreuzberg e.V. - ECPv6.15.20//NONSGML v1.0//EN
CALSCALE:GREGORIAN
METHOD:PUBLISH
X-ORIGINAL-URL:https://www.schachclubkreuzberg.de
X-WR-CALDESC:Veranstaltungen für Schach-Club Kreuzberg e.V.
REFRESH-INTERVAL;VALUE=DURATION:PT1H
X-Robots-Tag:noindex
X-PUBLISHED-TTL:PT1H
BEGIN:VTIMEZONE
TZID:Europe/Berlin
BEGIN:DAYLIGHT
TZOFFSETFROM:+0100
TZOFFSETTO:+0200
TZNAME:CEST
DTSTART:20270328T010000
END:DAYLIGHT
BEGIN:STANDARD
TZOFFSETFROM:+0200
TZOFFSETTO:+0100
TZNAME:CET
DTSTART:20271031T010000
END:STANDARD
BEGIN:DAYLIGHT
TZOFFSETFROM:+0100
TZOFFSETTO:+0200
TZNAME:CEST
DTSTART:20280326T010000
END:DAYLIGHT
BEGIN:STANDARD
TZOFFSETFROM:+0200
TZOFFSETTO:+0100
TZNAME:CET
DTSTART:20281029T010000
END:STANDARD
BEGIN:DAYLIGHT
TZOFFSETFROM:+0100
TZOFFSETTO:+0200
TZNAME:CEST
DTSTART:20290325T010000
END:DAYLIGHT
BEGIN:STANDARD
TZOFFSETFROM:+0200
TZOFFSETTO:+0100
TZNAME:CET
DTSTART:20291028T010000
END:STANDARD
END:VTIMEZONE
BEGIN:VEVENT
DTSTART;TZID=Europe/Berlin:20280229T180000
DTEND;TZID=Europe/Berlin:20280229T193000
DTSTAMP:20260422T132629
CREATED:20251116T140351Z
LAST-MODIFIED:20251116T141152Z
UID:10001105-1835460000-1835465400@www.schachclubkreuzberg.de
SUMMARY:Anfängerkurs für Erwachsene
DESCRIPTION:
URL:https://www.schachclubkreuzberg.de/event/anfaengerkurs-fuer-erwachsene/2028-02-29/
LOCATION:Haus des Sports\, Böcklerstr. 1\, Berlin\, 10969\, Germany
CATEGORIES:Training
ORGANIZER;CN="Schach-Club Kreuzberg e.V.":MAILTO:info@schachclubkreuzberg.de
END:VEVENT
BEGIN:VEVENT
DTSTART;TZID=Europe/Berlin:20280307T180000
DTEND;TZID=Europe/Berlin:20280307T193000
DTSTAMP:20260422T132630
CREATED:20251116T140351Z
LAST-MODIFIED:20251116T141152Z
UID:10001106-1836064800-1836070200@www.schachclubkreuzberg.de
SUMMARY:Anfängerkurs für Erwachsene
DESCRIPTION:
URL:https://www.schachclubkreuzberg.de/event/anfaengerkurs-fuer-erwachsene/2028-03-07/
LOCATION:Haus des Sports\, Böcklerstr. 1\, Berlin\, 10969\, Germany
CATEGORIES:Training
ORGANIZER;CN="Schach-Club Kreuzberg e.V.":MAILTO:info@schachclubkreuzberg.de
END:VEVENT
BEGIN:VEVENT
DTSTART;TZID=Europe/Berlin:20280314T180000
DTEND;TZID=Europe/Berlin:20280314T193000
DTSTAMP:20260422T132630
CREATED:20251116T140351Z
LAST-MODIFIED:20251116T141152Z
UID:10001107-1836669600-1836675000@www.schachclubkreuzberg.de
SUMMARY:Anfängerkurs für Erwachsene
DESCRIPTION:
URL:https://www.schachclubkreuzberg.de/event/anfaengerkurs-fuer-erwachsene/2028-03-14/
LOCATION:Haus des Sports\, Böcklerstr. 1\, Berlin\, 10969\, Germany
CATEGORIES:Training
ORGANIZER;CN="Schach-Club Kreuzberg e.V.":MAILTO:info@schachclubkreuzberg.de
END:VEVENT
BEGIN:VEVENT
DTSTART;TZID=Europe/Berlin:20280321T180000
DTEND;TZID=Europe/Berlin:20280321T193000
DTSTAMP:20260422T132630
CREATED:20251116T140351Z
LAST-MODIFIED:20251116T141152Z
UID:10001108-1837274400-1837279800@www.schachclubkreuzberg.de
SUMMARY:Anfängerkurs für Erwachsene
DESCRIPTION:
URL:https://www.schachclubkreuzberg.de/event/anfaengerkurs-fuer-erwachsene/2028-03-21/
LOCATION:Haus des Sports\, Böcklerstr. 1\, Berlin\, 10969\, Germany
CATEGORIES:Training
ORGANIZER;CN="Schach-Club Kreuzberg e.V.":MAILTO:info@schachclubkreuzberg.de
END:VEVENT
BEGIN:VEVENT
DTSTART;TZID=Europe/Berlin:20280328T180000
DTEND;TZID=Europe/Berlin:20280328T193000
DTSTAMP:20260422T132630
CREATED:20251116T140351Z
LAST-MODIFIED:20251116T141152Z
UID:10001109-1837879200-1837884600@www.schachclubkreuzberg.de
SUMMARY:Anfängerkurs für Erwachsene
DESCRIPTION:
URL:https://www.schachclubkreuzberg.de/event/anfaengerkurs-fuer-erwachsene/2028-03-28/
LOCATION:Haus des Sports\, Böcklerstr. 1\, Berlin\, 10969\, Germany
CATEGORIES:Training
ORGANIZER;CN="Schach-Club Kreuzberg e.V.":MAILTO:info@schachclubkreuzberg.de
END:VEVENT
BEGIN:VEVENT
DTSTART;TZID=Europe/Berlin:20280404T180000
DTEND;TZID=Europe/Berlin:20280404T193000
DTSTAMP:20260422T132630
CREATED:20251116T140351Z
LAST-MODIFIED:20251116T141152Z
UID:10001110-1838484000-1838489400@www.schachclubkreuzberg.de
SUMMARY:Anfängerkurs für Erwachsene
DESCRIPTION:
URL:https://www.schachclubkreuzberg.de/event/anfaengerkurs-fuer-erwachsene/2028-04-04/
LOCATION:Haus des Sports\, Böcklerstr. 1\, Berlin\, 10969\, Germany
CATEGORIES:Training
ORGANIZER;CN="Schach-Club Kreuzberg e.V.":MAILTO:info@schachclubkreuzberg.de
END:VEVENT
BEGIN:VEVENT
DTSTART;TZID=Europe/Berlin:20280411T180000
DTEND;TZID=Europe/Berlin:20280411T193000
DTSTAMP:20260422T132630
CREATED:20251116T140351Z
LAST-MODIFIED:20251116T141152Z
UID:10001111-1839088800-1839094200@www.schachclubkreuzberg.de
SUMMARY:Anfängerkurs für Erwachsene
DESCRIPTION:
URL:https://www.schachclubkreuzberg.de/event/anfaengerkurs-fuer-erwachsene/2028-04-11/
LOCATION:Haus des Sports\, Böcklerstr. 1\, Berlin\, 10969\, Germany
CATEGORIES:Training
ORGANIZER;CN="Schach-Club Kreuzberg e.V.":MAILTO:info@schachclubkreuzberg.de
END:VEVENT
BEGIN:VEVENT
DTSTART;TZID=Europe/Berlin:20280418T180000
DTEND;TZID=Europe/Berlin:20280418T193000
DTSTAMP:20260422T132630
CREATED:20251116T140351Z
LAST-MODIFIED:20251116T141152Z
UID:10001112-1839693600-1839699000@www.schachclubkreuzberg.de
SUMMARY:Anfängerkurs für Erwachsene
DESCRIPTION:
URL:https://www.schachclubkreuzberg.de/event/anfaengerkurs-fuer-erwachsene/2028-04-18/
LOCATION:Haus des Sports\, Böcklerstr. 1\, Berlin\, 10969\, Germany
CATEGORIES:Training
ORGANIZER;CN="Schach-Club Kreuzberg e.V.":MAILTO:info@schachclubkreuzberg.de
END:VEVENT
BEGIN:VEVENT
DTSTART;TZID=Europe/Berlin:20280425T180000
DTEND;TZID=Europe/Berlin:20280425T193000
DTSTAMP:20260422T132630
CREATED:20251116T140351Z
LAST-MODIFIED:20251116T141152Z
UID:10001113-1840298400-1840303800@www.schachclubkreuzberg.de
SUMMARY:Anfängerkurs für Erwachsene
DESCRIPTION:
URL:https://www.schachclubkreuzberg.de/event/anfaengerkurs-fuer-erwachsene/2028-04-25/
LOCATION:Haus des Sports\, Böcklerstr. 1\, Berlin\, 10969\, Germany
CATEGORIES:Training
ORGANIZER;CN="Schach-Club Kreuzberg e.V.":MAILTO:info@schachclubkreuzberg.de
END:VEVENT
BEGIN:VEVENT
DTSTART;TZID=Europe/Berlin:20280502T180000
DTEND;TZID=Europe/Berlin:20280502T193000
DTSTAMP:20260422T132630
CREATED:20251116T140351Z
LAST-MODIFIED:20251116T141152Z
UID:10001114-1840903200-1840908600@www.schachclubkreuzberg.de
SUMMARY:Anfängerkurs für Erwachsene
DESCRIPTION:
URL:https://www.schachclubkreuzberg.de/event/anfaengerkurs-fuer-erwachsene/2028-05-02/
LOCATION:Haus des Sports\, Böcklerstr. 1\, Berlin\, 10969\, Germany
CATEGORIES:Training
ORGANIZER;CN="Schach-Club Kreuzberg e.V.":MAILTO:info@schachclubkreuzberg.de
END:VEVENT
BEGIN:VEVENT
DTSTART;TZID=Europe/Berlin:20280509T180000
DTEND;TZID=Europe/Berlin:20280509T193000
DTSTAMP:20260422T132630
CREATED:20251116T140351Z
LAST-MODIFIED:20251116T141152Z
UID:10001115-1841508000-1841513400@www.schachclubkreuzberg.de
SUMMARY:Anfängerkurs für Erwachsene
DESCRIPTION:
URL:https://www.schachclubkreuzberg.de/event/anfaengerkurs-fuer-erwachsene/2028-05-09/
LOCATION:Haus des Sports\, Böcklerstr. 1\, Berlin\, 10969\, Germany
CATEGORIES:Training
ORGANIZER;CN="Schach-Club Kreuzberg e.V.":MAILTO:info@schachclubkreuzberg.de
END:VEVENT
BEGIN:VEVENT
DTSTART;TZID=Europe/Berlin:20280516T180000
DTEND;TZID=Europe/Berlin:20280516T193000
DTSTAMP:20260422T132630
CREATED:20251116T140351Z
LAST-MODIFIED:20251116T141152Z
UID:10001116-1842112800-1842118200@www.schachclubkreuzberg.de
SUMMARY:Anfängerkurs für Erwachsene
DESCRIPTION:
URL:https://www.schachclubkreuzberg.de/event/anfaengerkurs-fuer-erwachsene/2028-05-16/
LOCATION:Haus des Sports\, Böcklerstr. 1\, Berlin\, 10969\, Germany
CATEGORIES:Training
ORGANIZER;CN="Schach-Club Kreuzberg e.V.":MAILTO:info@schachclubkreuzberg.de
END:VEVENT
BEGIN:VEVENT
DTSTART;TZID=Europe/Berlin:20280523T180000
DTEND;TZID=Europe/Berlin:20280523T193000
DTSTAMP:20260422T132630
CREATED:20251116T140351Z
LAST-MODIFIED:20251116T141152Z
UID:10001117-1842717600-1842723000@www.schachclubkreuzberg.de
SUMMARY:Anfängerkurs für Erwachsene
DESCRIPTION:
URL:https://www.schachclubkreuzberg.de/event/anfaengerkurs-fuer-erwachsene/2028-05-23/
LOCATION:Haus des Sports\, Böcklerstr. 1\, Berlin\, 10969\, Germany
CATEGORIES:Training
ORGANIZER;CN="Schach-Club Kreuzberg e.V.":MAILTO:info@schachclubkreuzberg.de
END:VEVENT
BEGIN:VEVENT
DTSTART;TZID=Europe/Berlin:20280530T180000
DTEND;TZID=Europe/Berlin:20280530T193000
DTSTAMP:20260422T132630
CREATED:20251116T140351Z
LAST-MODIFIED:20251116T141152Z
UID:10001118-1843322400-1843327800@www.schachclubkreuzberg.de
SUMMARY:Anfängerkurs für Erwachsene
DESCRIPTION:
URL:https://www.schachclubkreuzberg.de/event/anfaengerkurs-fuer-erwachsene/2028-05-30/
LOCATION:Haus des Sports\, Böcklerstr. 1\, Berlin\, 10969\, Germany
CATEGORIES:Training
ORGANIZER;CN="Schach-Club Kreuzberg e.V.":MAILTO:info@schachclubkreuzberg.de
END:VEVENT
BEGIN:VEVENT
DTSTART;TZID=Europe/Berlin:20280606T180000
DTEND;TZID=Europe/Berlin:20280606T193000
DTSTAMP:20260422T132630
CREATED:20251116T140351Z
LAST-MODIFIED:20251116T141152Z
UID:10001119-1843927200-1843932600@www.schachclubkreuzberg.de
SUMMARY:Anfängerkurs für Erwachsene
DESCRIPTION:
URL:https://www.schachclubkreuzberg.de/event/anfaengerkurs-fuer-erwachsene/2028-06-06/
LOCATION:Haus des Sports\, Böcklerstr. 1\, Berlin\, 10969\, Germany
CATEGORIES:Training
ORGANIZER;CN="Schach-Club Kreuzberg e.V.":MAILTO:info@schachclubkreuzberg.de
END:VEVENT
BEGIN:VEVENT
DTSTART;TZID=Europe/Berlin:20280613T180000
DTEND;TZID=Europe/Berlin:20280613T193000
DTSTAMP:20260422T132630
CREATED:20251116T140351Z
LAST-MODIFIED:20251116T141152Z
UID:10001120-1844532000-1844537400@www.schachclubkreuzberg.de
SUMMARY:Anfängerkurs für Erwachsene
DESCRIPTION:
URL:https://www.schachclubkreuzberg.de/event/anfaengerkurs-fuer-erwachsene/2028-06-13/
LOCATION:Haus des Sports\, Böcklerstr. 1\, Berlin\, 10969\, Germany
CATEGORIES:Training
ORGANIZER;CN="Schach-Club Kreuzberg e.V.":MAILTO:info@schachclubkreuzberg.de
END:VEVENT
BEGIN:VEVENT
DTSTART;TZID=Europe/Berlin:20280620T180000
DTEND;TZID=Europe/Berlin:20280620T193000
DTSTAMP:20260422T132630
CREATED:20251116T140351Z
LAST-MODIFIED:20251116T141152Z
UID:10001121-1845136800-1845142200@www.schachclubkreuzberg.de
SUMMARY:Anfängerkurs für Erwachsene
DESCRIPTION:
URL:https://www.schachclubkreuzberg.de/event/anfaengerkurs-fuer-erwachsene/2028-06-20/
LOCATION:Haus des Sports\, Böcklerstr. 1\, Berlin\, 10969\, Germany
CATEGORIES:Training
ORGANIZER;CN="Schach-Club Kreuzberg e.V.":MAILTO:info@schachclubkreuzberg.de
END:VEVENT
BEGIN:VEVENT
DTSTART;TZID=Europe/Berlin:20280627T180000
DTEND;TZID=Europe/Berlin:20280627T193000
DTSTAMP:20260422T132630
CREATED:20251116T140351Z
LAST-MODIFIED:20251116T141152Z
UID:10001122-1845741600-1845747000@www.schachclubkreuzberg.de
SUMMARY:Anfängerkurs für Erwachsene
DESCRIPTION:
URL:https://www.schachclubkreuzberg.de/event/anfaengerkurs-fuer-erwachsene/2028-06-27/
LOCATION:Haus des Sports\, Böcklerstr. 1\, Berlin\, 10969\, Germany
CATEGORIES:Training
ORGANIZER;CN="Schach-Club Kreuzberg e.V.":MAILTO:info@schachclubkreuzberg.de
END:VEVENT
BEGIN:VEVENT
DTSTART;TZID=Europe/Berlin:20280704T180000
DTEND;TZID=Europe/Berlin:20280704T193000
DTSTAMP:20260422T132630
CREATED:20251116T140351Z
LAST-MODIFIED:20251116T141152Z
UID:10001123-1846346400-1846351800@www.schachclubkreuzberg.de
SUMMARY:Anfängerkurs für Erwachsene
DESCRIPTION:
URL:https://www.schachclubkreuzberg.de/event/anfaengerkurs-fuer-erwachsene/2028-07-04/
LOCATION:Haus des Sports\, Böcklerstr. 1\, Berlin\, 10969\, Germany
CATEGORIES:Training
ORGANIZER;CN="Schach-Club Kreuzberg e.V.":MAILTO:info@schachclubkreuzberg.de
END:VEVENT
BEGIN:VEVENT
DTSTART;TZID=Europe/Berlin:20280711T180000
DTEND;TZID=Europe/Berlin:20280711T193000
DTSTAMP:20260422T132630
CREATED:20251116T140351Z
LAST-MODIFIED:20251116T141152Z
UID:10001124-1846951200-1846956600@www.schachclubkreuzberg.de
SUMMARY:Anfängerkurs für Erwachsene
DESCRIPTION:
URL:https://www.schachclubkreuzberg.de/event/anfaengerkurs-fuer-erwachsene/2028-07-11/
LOCATION:Haus des Sports\, Böcklerstr. 1\, Berlin\, 10969\, Germany
CATEGORIES:Training
ORGANIZER;CN="Schach-Club Kreuzberg e.V.":MAILTO:info@schachclubkreuzberg.de
END:VEVENT
BEGIN:VEVENT
DTSTART;TZID=Europe/Berlin:20280718T180000
DTEND;TZID=Europe/Berlin:20280718T193000
DTSTAMP:20260422T132630
CREATED:20251116T140351Z
LAST-MODIFIED:20251116T141152Z
UID:10001125-1847556000-1847561400@www.schachclubkreuzberg.de
SUMMARY:Anfängerkurs für Erwachsene
DESCRIPTION:
URL:https://www.schachclubkreuzberg.de/event/anfaengerkurs-fuer-erwachsene/2028-07-18/
LOCATION:Haus des Sports\, Böcklerstr. 1\, Berlin\, 10969\, Germany
CATEGORIES:Training
ORGANIZER;CN="Schach-Club Kreuzberg e.V.":MAILTO:info@schachclubkreuzberg.de
END:VEVENT
BEGIN:VEVENT
DTSTART;TZID=Europe/Berlin:20280725T180000
DTEND;TZID=Europe/Berlin:20280725T193000
DTSTAMP:20260422T132630
CREATED:20251116T140351Z
LAST-MODIFIED:20251116T141152Z
UID:10001126-1848160800-1848166200@www.schachclubkreuzberg.de
SUMMARY:Anfängerkurs für Erwachsene
DESCRIPTION:
URL:https://www.schachclubkreuzberg.de/event/anfaengerkurs-fuer-erwachsene/2028-07-25/
LOCATION:Haus des Sports\, Böcklerstr. 1\, Berlin\, 10969\, Germany
CATEGORIES:Training
ORGANIZER;CN="Schach-Club Kreuzberg e.V.":MAILTO:info@schachclubkreuzberg.de
END:VEVENT
BEGIN:VEVENT
DTSTART;TZID=Europe/Berlin:20280801T180000
DTEND;TZID=Europe/Berlin:20280801T193000
DTSTAMP:20260422T132630
CREATED:20251116T140351Z
LAST-MODIFIED:20251116T141152Z
UID:10001127-1848765600-1848771000@www.schachclubkreuzberg.de
SUMMARY:Anfängerkurs für Erwachsene
DESCRIPTION:
URL:https://www.schachclubkreuzberg.de/event/anfaengerkurs-fuer-erwachsene/2028-08-01/
LOCATION:Haus des Sports\, Böcklerstr. 1\, Berlin\, 10969\, Germany
CATEGORIES:Training
ORGANIZER;CN="Schach-Club Kreuzberg e.V.":MAILTO:info@schachclubkreuzberg.de
END:VEVENT
BEGIN:VEVENT
DTSTART;TZID=Europe/Berlin:20280808T180000
DTEND;TZID=Europe/Berlin:20280808T193000
DTSTAMP:20260422T132630
CREATED:20251116T140351Z
LAST-MODIFIED:20251116T141152Z
UID:10001128-1849370400-1849375800@www.schachclubkreuzberg.de
SUMMARY:Anfängerkurs für Erwachsene
DESCRIPTION:
URL:https://www.schachclubkreuzberg.de/event/anfaengerkurs-fuer-erwachsene/2028-08-08/
LOCATION:Haus des Sports\, Böcklerstr. 1\, Berlin\, 10969\, Germany
CATEGORIES:Training
ORGANIZER;CN="Schach-Club Kreuzberg e.V.":MAILTO:info@schachclubkreuzberg.de
END:VEVENT
BEGIN:VEVENT
DTSTART;TZID=Europe/Berlin:20280815T180000
DTEND;TZID=Europe/Berlin:20280815T193000
DTSTAMP:20260422T132630
CREATED:20251116T140351Z
LAST-MODIFIED:20251116T141152Z
UID:10001129-1849975200-1849980600@www.schachclubkreuzberg.de
SUMMARY:Anfängerkurs für Erwachsene
DESCRIPTION:
URL:https://www.schachclubkreuzberg.de/event/anfaengerkurs-fuer-erwachsene/2028-08-15/
LOCATION:Haus des Sports\, Böcklerstr. 1\, Berlin\, 10969\, Germany
CATEGORIES:Training
ORGANIZER;CN="Schach-Club Kreuzberg e.V.":MAILTO:info@schachclubkreuzberg.de
END:VEVENT
BEGIN:VEVENT
DTSTART;TZID=Europe/Berlin:20280822T180000
DTEND;TZID=Europe/Berlin:20280822T193000
DTSTAMP:20260422T132630
CREATED:20251116T140351Z
LAST-MODIFIED:20251116T141152Z
UID:10001130-1850580000-1850585400@www.schachclubkreuzberg.de
SUMMARY:Anfängerkurs für Erwachsene
DESCRIPTION:
URL:https://www.schachclubkreuzberg.de/event/anfaengerkurs-fuer-erwachsene/2028-08-22/
LOCATION:Haus des Sports\, Böcklerstr. 1\, Berlin\, 10969\, Germany
CATEGORIES:Training
ORGANIZER;CN="Schach-Club Kreuzberg e.V.":MAILTO:info@schachclubkreuzberg.de
END:VEVENT
BEGIN:VEVENT
DTSTART;TZID=Europe/Berlin:20280829T180000
DTEND;TZID=Europe/Berlin:20280829T193000
DTSTAMP:20260422T132630
CREATED:20251116T140351Z
LAST-MODIFIED:20251116T141152Z
UID:10001131-1851184800-1851190200@www.schachclubkreuzberg.de
SUMMARY:Anfängerkurs für Erwachsene
DESCRIPTION:
URL:https://www.schachclubkreuzberg.de/event/anfaengerkurs-fuer-erwachsene/2028-08-29/
LOCATION:Haus des Sports\, Böcklerstr. 1\, Berlin\, 10969\, Germany
CATEGORIES:Training
ORGANIZER;CN="Schach-Club Kreuzberg e.V.":MAILTO:info@schachclubkreuzberg.de
END:VEVENT
BEGIN:VEVENT
DTSTART;TZID=Europe/Berlin:20280905T180000
DTEND;TZID=Europe/Berlin:20280905T193000
DTSTAMP:20260422T132630
CREATED:20251116T140351Z
LAST-MODIFIED:20251116T141152Z
UID:10001132-1851789600-1851795000@www.schachclubkreuzberg.de
SUMMARY:Anfängerkurs für Erwachsene
DESCRIPTION:
URL:https://www.schachclubkreuzberg.de/event/anfaengerkurs-fuer-erwachsene/2028-09-05/
LOCATION:Haus des Sports\, Böcklerstr. 1\, Berlin\, 10969\, Germany
CATEGORIES:Training
ORGANIZER;CN="Schach-Club Kreuzberg e.V.":MAILTO:info@schachclubkreuzberg.de
END:VEVENT
BEGIN:VEVENT
DTSTART;TZID=Europe/Berlin:20280912T180000
DTEND;TZID=Europe/Berlin:20280912T193000
DTSTAMP:20260422T132630
CREATED:20251116T140351Z
LAST-MODIFIED:20251116T141152Z
UID:10001133-1852394400-1852399800@www.schachclubkreuzberg.de
SUMMARY:Anfängerkurs für Erwachsene
DESCRIPTION:
URL:https://www.schachclubkreuzberg.de/event/anfaengerkurs-fuer-erwachsene/2028-09-12/
LOCATION:Haus des Sports\, Böcklerstr. 1\, Berlin\, 10969\, Germany
CATEGORIES:Training
ORGANIZER;CN="Schach-Club Kreuzberg e.V.":MAILTO:info@schachclubkreuzberg.de
END:VEVENT
BEGIN:VEVENT
DTSTART;TZID=Europe/Berlin:20280919T180000
DTEND;TZID=Europe/Berlin:20280919T193000
DTSTAMP:20260422T132630
CREATED:20251116T140351Z
LAST-MODIFIED:20251116T141152Z
UID:10001134-1852999200-1853004600@www.schachclubkreuzberg.de
SUMMARY:Anfängerkurs für Erwachsene
DESCRIPTION:
URL:https://www.schachclubkreuzberg.de/event/anfaengerkurs-fuer-erwachsene/2028-09-19/
LOCATION:Haus des Sports\, Böcklerstr. 1\, Berlin\, 10969\, Germany
CATEGORIES:Training
ORGANIZER;CN="Schach-Club Kreuzberg e.V.":MAILTO:info@schachclubkreuzberg.de
END:VEVENT
END:VCALENDAR